BEGIN:VCALENDAR
VERSION:2.0
PRODID:-//myllife.org//NONSGML kigkonsult.se iCalcreator 2.30.10//
CALSCALE:GREGORIAN
METHOD:PUBLISH
UID:631bc15b-91a2-4f71-b923-54edec669cdd
X-WR-CALDESC:The holy month of Ramadan starts on April 13 and is a time for
  religious observance and celebration. In honor of this and to help others
  practice and understand their religion\, we will be hosting completely vi
 rtual Ramadan reading and discussion oriented sessions with the opportunit
 y to learn\, understand\, and question the religion of Islam. Please visit
  www.myllife.org and check our calendar for any updates or changes.
X-WR-RELCALID:076b0ebb3be8f1a6223501fffbe992fa
X-WR-TIMEZONE:America/New_York
BEGIN:VTIMEZONE
TZID:America/New_York
BEGIN:STANDARD
TZNAME:EST
DTSTART:20211107T020000
TZOFFSETFROM:-0400
TZOFFSETTO:-0500
RDATE:20221106T020000
END:STANDARD
BEGIN:DAYLIGHT
TZNAME:EDT
DTSTART:20220313T020000
TZOFFSETFROM:-0500
TZOFFSETTO:-0400
RDATE:20230312T020000
END:DAYLIGHT
END:VTIMEZONE
BEGIN:VEVENT
UID:72d810b8-b126-42e2-a9ac-6d8a812f219a
DTSTAMP:20260423T232328Z
DESCRIPTION:The holy month of Ramadan starts on April 13 and is a time for 
 religious observance and celebration. In honor of this and to help others 
 practice and understand their religion\, we will be hosting completely vir
 tual Ramadan reading and discussion oriented sessions with the opportunity
  to learn\, understand\, and question the religion of Islam. Please visit 
 www.myllife.org and check our calendar for any updates or changes.
DTSTART;TZID=America/New_York:20220502T210000
DTEND;TZID=America/New_York:20220502T220000
LOCATION:https://us02web.zoom.us/j/84904807720?pwd=cFFCNWlMSnljWnZyQnlKL1hG
 aWZmQT09
SUMMARY:Daily Ramadan Reading & Reflection
END:VEVENT
END:VCALENDAR
