BEGIN:VCALENDAR
VERSION:2.0
PRODID:-//myllife.org//NONSGML kigkonsult.se iCalcreator 2.30.10//
CALSCALE:GREGORIAN
METHOD:PUBLISH
UID:14a2ab42-1fb8-43f9-a27d-6ba377852f67
X-WR-CALDESC:Join us for an Eid Picnic at Lake Accotink's Large Shelter on 
 May 2nd from 3:30PM to Sunset! Refreshments and food will be provided. Ple
 ase register for the event.
X-WR-RELCALID:7263e09808adde519ab86fa48f7269ae
X-WR-TIMEZONE:America/New_York
BEGIN:VTIMEZONE
TZID:America/New_York
BEGIN:STANDARD
TZNAME:EST
DTSTART:20211107T020000
TZOFFSETFROM:-0400
TZOFFSETTO:-0500
RDATE:20221106T020000
END:STANDARD
BEGIN:DAYLIGHT
TZNAME:EDT
DTSTART:20220313T020000
TZOFFSETFROM:-0500
TZOFFSETTO:-0400
RDATE:20230312T020000
END:DAYLIGHT
END:VTIMEZONE
BEGIN:VEVENT
UID:57c79c14-13e1-4573-98db-15e2a29e0009
DTSTAMP:20260423T232220Z
DESCRIPTION:Join us for an Eid Picnic at Lake Accotink's Large Shelter on M
 ay 2nd from 3:30PM to Sunset! Refreshments and food will be provided. Plea
 se register for the event.
DTSTART;TZID=America/New_York:20220502T153000
DTEND;TZID=America/New_York:20220502T200000
LOCATION:7500 Lake Accotink Park Rd\, Springfield\, VA 22152 US
SUMMARY:Eid Picnic
END:VEVENT
END:VCALENDAR
