BEGIN:VCALENDAR
VERSION:2.0
PRODID:-//myllife.org//NONSGML kigkonsult.se iCalcreator 2.30.10//
CALSCALE:GREGORIAN
METHOD:PUBLISH
UID:44ad0e0e-7241-4f0f-8691-bfdaf1790ee6
X-WR-CALDESC:Meet face to face or remotely to discuss faith and goodness in
  our lives using the Qur'an\, other books of revelations and books of scie
 nces to challenge one another and to form better understanding of ourselve
 s and our world. A zoom link will be provided for each session an hour bef
 ore the start of the session for those who confirm attendance. An email wi
 ll go out two days prior to each Sunday session. Pls visit www.myllife.org
  and check our calendar for any updates or changes.
X-WR-RELCALID:10bab8a9ddcc39a41982c39847c9872c
X-WR-TIMEZONE:America/New_York
BEGIN:VTIMEZONE
TZID:America/New_York
BEGIN:STANDARD
TZNAME:EST
DTSTART:20211107T020000
TZOFFSETFROM:-0400
TZOFFSETTO:-0500
RDATE:20221106T020000
RDATE:20231105T020000
END:STANDARD
BEGIN:DAYLIGHT
TZNAME:EDT
DTSTART:20220313T020000
TZOFFSETFROM:-0500
TZOFFSETTO:-0400
RDATE:20230312T020000
END:DAYLIGHT
END:VTIMEZONE
BEGIN:VEVENT
UID:20d7bca2-5c07-49ad-b975-29c6e7529491
DTSTAMP:20260423T232723Z
DESCRIPTION:Meet face to face or remotely to discuss faith and goodness in 
 our lives using the Qur'an\, other books of revelations and books of scien
 ces to challenge one another and to form better understanding of ourselves
  and our world. A zoom link will be provided for each session an hour befo
 re the start of the session for those who confirm attendance. An email wil
 l go out two days prior to each Sunday session. Pls visit www.myllife.org 
 and check our calendar for any updates or changes.
DTSTART;TZID=America/New_York:20220508T200000
DTEND;TZID=America/New_York:20220508T210000
LOCATION:https://us02web.zoom.us/j/87547075973?pwd=Vjd6bVNXbTRDV1N5bGVVN2dZ
 OXg0Zz09
SUMMARY:Sunday Meetups
END:VEVENT
END:VCALENDAR
