BEGIN:VCALENDAR
VERSION:2.0
PRODID:-//myllife.org//NONSGML kigkonsult.se iCalcreator 2.30.10//
CALSCALE:GREGORIAN
METHOD:PUBLISH
UID:a8352039-25bc-4187-84db-3103d68d33c7
X-WR-CALDESC:Father's day is a holiday celebrated around the world. It is i
 mportant to appreciate and recognize our fathers and acknowledge the work 
 and effort they have put in. Please take the time to show appreciation for
  your fathers. We wish you a pleasant and joyful Father's Day!
X-WR-RELCALID:e59ce46d245796202a4092ab386a4d1b
X-WR-TIMEZONE:America/New_York
BEGIN:VTIMEZONE
TZID:America/New_York
BEGIN:STANDARD
TZNAME:EST
DTSTART:20211107T020000
TZOFFSETFROM:-0400
TZOFFSETTO:-0500
RDATE:20221106T020000
RDATE:20231105T020000
END:STANDARD
BEGIN:DAYLIGHT
TZNAME:EDT
DTSTART:20220313T020000
TZOFFSETFROM:-0500
TZOFFSETTO:-0400
RDATE:20230312T020000
END:DAYLIGHT
END:VTIMEZONE
BEGIN:VEVENT
UID:c64af4b9-4790-4227-a64a-45d937f7b6e1
DTSTAMP:20260423T234731Z
DESCRIPTION:Father's day is a holiday celebrated around the world. It is im
 portant to appreciate and recognize our fathers and acknowledge the work a
 nd effort they have put in. Please take the time to show appreciation for 
 your fathers. We wish you a pleasant and joyful Father's Day!
DTSTART;TZID=America/New_York:20220620T000000
DTEND;TZID=America/New_York:20220620T235900
LOCATION:
SUMMARY:Father's Day
END:VEVENT
END:VCALENDAR
