BEGIN:VCALENDAR
VERSION:2.0
PRODID:-//myllife.org//NONSGML kigkonsult.se iCalcreator 2.30.10//
CALSCALE:GREGORIAN
METHOD:PUBLISH
UID:0c7fb361-9e14-4e17-9b67-642a291d3dc2
X-WR-CALDESC:Eid al-Adha is an Islamic holiday that honors Prophet Ibrahim 
 in his willingness to sacrifice his son\, Ismail\, as an act of obedience 
 to Allah to which Allah provided a lamb for him to sacrifice instead. It i
 s an important and holy day in Islam and we hope to celebrate it with you!
  Eid Mubarak!
X-WR-RELCALID:3d21d493c7c58fd6587414ac5bf4dca2
X-WR-TIMEZONE:America/New_York
BEGIN:VTIMEZONE
TZID:America/New_York
BEGIN:STANDARD
TZNAME:EST
DTSTART:20211107T020000
TZOFFSETFROM:-0400
TZOFFSETTO:-0500
RDATE:20221106T020000
RDATE:20231105T020000
END:STANDARD
BEGIN:DAYLIGHT
TZNAME:EDT
DTSTART:20220313T020000
TZOFFSETFROM:-0500
TZOFFSETTO:-0400
RDATE:20230312T020000
END:DAYLIGHT
END:VTIMEZONE
BEGIN:VEVENT
UID:c0f3f156-e214-4dbf-96ba-ac2e14e9b88b
DTSTAMP:20260423T215351Z
DESCRIPTION:Eid al-Adha is an Islamic holiday that honors Prophet Ibrahim i
 n his willingness to sacrifice his son\, Ismail\, as an act of obedience t
 o Allah to which Allah provided a lamb for him to sacrifice instead. It is
  an important and holy day in Islam and we hope to celebrate it with you! 
 Eid Mubarak!
DTSTART;TZID=America/New_York:20220710T000000
DTEND;TZID=America/New_York:20220710T235900
LOCATION:
SUMMARY:Eid al-Adha
END:VEVENT
END:VCALENDAR
