BEGIN:VCALENDAR
VERSION:2.0
PRODID:-//myllife.org//NONSGML kigkonsult.se iCalcreator 2.30.10//
CALSCALE:GREGORIAN
METHOD:PUBLISH
UID:49db4d70-ebaf-473b-a16e-d2e258073978
X-WR-CALDESC:Join us for an Eid Picnic at Lake Accotink's Small Shelter on 
 July 16th from 9AM to Sunset! Refreshments and food will be provided. Plea
 se register for the event.
X-WR-RELCALID:f267f8361e1dbba1f84332cb7d33d119
X-WR-TIMEZONE:America/New_York
BEGIN:VTIMEZONE
TZID:America/New_York
BEGIN:STANDARD
TZNAME:EST
DTSTART:20211107T020000
TZOFFSETFROM:-0400
TZOFFSETTO:-0500
RDATE:20221106T020000
RDATE:20231105T020000
END:STANDARD
BEGIN:DAYLIGHT
TZNAME:EDT
DTSTART:20220313T020000
TZOFFSETFROM:-0500
TZOFFSETTO:-0400
RDATE:20230312T020000
END:DAYLIGHT
END:VTIMEZONE
BEGIN:VEVENT
UID:3c9bf21c-cd08-4d0b-92c1-d6a8feef1f8e
DTSTAMP:20260423T214926Z
DESCRIPTION:Join us for an Eid Picnic at Lake Accotink's Small Shelter on J
 uly 16th from 9AM to Sunset! Refreshments and food will be provided. Pleas
 e register for the event.
DTSTART;TZID=America/New_York:20220716T090000
DTEND;TZID=America/New_York:20220716T203000
LOCATION:7500 Lake Accotink Park Rd\, Springfield\, VA 22152 US
SUMMARY:Eid Picnic
END:VEVENT
END:VCALENDAR
