BEGIN:VCALENDAR
VERSION:2.0
PRODID:-//myllife.org//NONSGML kigkonsult.se iCalcreator 2.30.10//
CALSCALE:GREGORIAN
METHOD:PUBLISH
UID:b946f3dd-6767-4a66-9c2d-fe367079e903
X-WR-CALDESC:Ashura is the tenth day of Muharram which is the first month o
 f the Islamic calendar. It is an important holiday to Muslims and bears ex
 treme religious and cultural significance.
X-WR-RELCALID:443115df72984687b8a8f1dde57bcd57
X-WR-TIMEZONE:America/New_York
BEGIN:VTIMEZONE
TZID:America/New_York
BEGIN:STANDARD
TZNAME:EST
DTSTART:20211107T020000
TZOFFSETFROM:-0400
TZOFFSETTO:-0500
RDATE:20221106T020000
RDATE:20231105T020000
END:STANDARD
BEGIN:DAYLIGHT
TZNAME:EDT
DTSTART:20220313T020000
TZOFFSETFROM:-0500
TZOFFSETTO:-0400
RDATE:20230312T020000
END:DAYLIGHT
END:VTIMEZONE
BEGIN:VEVENT
UID:bc402763-5a3e-4d4b-879a-3269093f9881
DTSTAMP:20260423T182640Z
DESCRIPTION:Ashura is the tenth day of Muharram which is the first month of
  the Islamic calendar. It is an important holiday to Muslims and bears ext
 reme religious and cultural significance.
DTSTART;TZID=America/New_York:20220819T000000
DTEND;TZID=America/New_York:20220819T235900
LOCATION:
SUMMARY:Ashura
END:VEVENT
END:VCALENDAR
