BEGIN:VCALENDAR
VERSION:2.0
PRODID:-//myllife.org//NONSGML kigkonsult.se iCalcreator 2.30.10//
CALSCALE:GREGORIAN
METHOD:PUBLISH
UID:e7362c3b-2032-4aeb-9446-a0e7cc736818
X-WR-CALDESC:Rosh Hashanah is the Jewish New Year. Happy Rosh Hashanah to a
 ll!
X-WR-RELCALID:228d659936fc739d0ea2d9df2cc20150
X-WR-TIMEZONE:America/New_York
BEGIN:VTIMEZONE
TZID:America/New_York
BEGIN:STANDARD
TZNAME:EST
DTSTART:20211107T020000
TZOFFSETFROM:-0400
TZOFFSETTO:-0500
RDATE:20221106T020000
RDATE:20231105T020000
END:STANDARD
BEGIN:DAYLIGHT
TZNAME:EDT
DTSTART:20220313T020000
TZOFFSETFROM:-0500
TZOFFSETTO:-0400
RDATE:20230312T020000
RDATE:20240310T020000
END:DAYLIGHT
END:VTIMEZONE
BEGIN:VEVENT
UID:ade16b87-be0b-4f38-a206-8f54ed5c71b4
DTSTAMP:20260423T163803Z
DESCRIPTION:Rosh Hashanah is the Jewish New Year. Happy Rosh Hashanah to al
 l!
DTSTART;TZID=America/New_York:20220926T000000
DTEND;TZID=America/New_York:20220926T235900
LOCATION:
SUMMARY:Rosh Hashanah
END:VEVENT
END:VCALENDAR
