BEGIN:VCALENDAR
VERSION:2.0
PRODID:-//myllife.org//NONSGML kigkonsult.se iCalcreator 2.30.10//
CALSCALE:GREGORIAN
METHOD:PUBLISH
UID:50c757ec-854c-4b3b-b94c-cf6793c3b234
X-WR-CALDESC:Yom Kippur\, also known as the Day of Atonement\, is the holie
 st day of the year in Judaism. This holiday is typically observed with dee
 p prayer as well as fasting. Happy Yom Kippur!
X-WR-RELCALID:65c0580b453fafde65d17285c2b2df53
X-WR-TIMEZONE:America/New_York
BEGIN:VTIMEZONE
TZID:America/New_York
BEGIN:STANDARD
TZNAME:EST
DTSTART:20211107T020000
TZOFFSETFROM:-0400
TZOFFSETTO:-0500
RDATE:20221106T020000
RDATE:20231105T020000
END:STANDARD
BEGIN:DAYLIGHT
TZNAME:EDT
DTSTART:20220313T020000
TZOFFSETFROM:-0500
TZOFFSETTO:-0400
RDATE:20230312T020000
RDATE:20240310T020000
END:DAYLIGHT
END:VTIMEZONE
BEGIN:VEVENT
UID:c5d9fb16-7692-451b-8f19-793a269d8a20
DTSTAMP:20260423T142521Z
DESCRIPTION:Yom Kippur\, also known as the Day of Atonement\, is the holies
 t day of the year in Judaism. This holiday is typically observed with deep
  prayer as well as fasting. Happy Yom Kippur!
DTSTART;TZID=America/New_York:20221005T000000
DTEND;TZID=America/New_York:20221005T235900
LOCATION:
SUMMARY:Yom Kippur
END:VEVENT
END:VCALENDAR
