BEGIN:VCALENDAR
VERSION:2.0
PRODID:-//myllife.org//NONSGML kigkonsult.se iCalcreator 2.30.10//
CALSCALE:GREGORIAN
METHOD:PUBLISH
UID:a18be12d-4017-4950-9980-4dacefde2136
X-WR-CALDESC:Thanksgiving is a national holiday celebrated on different day
 s in many countries. It is known as a time for family gathering\, grateful
 ness and most importantly: feasts. We wish you a happy and delectable Than
 ksgiving meal! Enjoy your time!
X-WR-RELCALID:3c859f64d215ee974ccf74d77c89dbe5
X-WR-TIMEZONE:America/New_York
BEGIN:VTIMEZONE
TZID:America/New_York
BEGIN:STANDARD
TZNAME:EST
DTSTART:20221106T020000
TZOFFSETFROM:-0400
TZOFFSETTO:-0500
RDATE:20231105T020000
END:STANDARD
BEGIN:DAYLIGHT
TZNAME:EDT
DTSTART:20220313T020000
TZOFFSETFROM:-0500
TZOFFSETTO:-0400
RDATE:20230312T020000
RDATE:20240310T020000
END:DAYLIGHT
END:VTIMEZONE
BEGIN:VEVENT
UID:13db585a-e38a-47d2-b493-2e5344eea289
DTSTAMP:20260423T123737Z
DESCRIPTION:Thanksgiving is a national holiday celebrated on different days
  in many countries. It is known as a time for family gathering\, gratefuln
 ess and most importantly: feasts. We wish you a happy and delectable Thank
 sgiving meal! Enjoy your time!
DTSTART;TZID=America/New_York:20221125T000000
DTEND;TZID=America/New_York:20221125T235900
LOCATION:
SUMMARY:Thanksgiving
END:VEVENT
END:VCALENDAR
