BEGIN:VCALENDAR
VERSION:2.0
PRODID:-//myllife.org//NONSGML kigkonsult.se iCalcreator 2.30.10//
CALSCALE:GREGORIAN
METHOD:PUBLISH
UID:823bd569-52ad-4243-a1bd-a195d1016dde
X-WR-CALDESC:Hannukah is a Jewish festival of lights that lasts roughly nin
 e days and has cultural\, religious\, and historical significance. It is a
 n important occasion for Jewish people and we wish all who celebrate a joy
 ful time!
X-WR-RELCALID:b750e46a6171c610a6ddd1fc96c4098a
X-WR-TIMEZONE:America/New_York
BEGIN:VTIMEZONE
TZID:America/New_York
BEGIN:STANDARD
TZNAME:EST
DTSTART:20221106T020000
TZOFFSETFROM:-0400
TZOFFSETTO:-0500
RDATE:20231105T020000
END:STANDARD
BEGIN:DAYLIGHT
TZNAME:EDT
DTSTART:20220313T020000
TZOFFSETFROM:-0500
TZOFFSETTO:-0400
RDATE:20230312T020000
RDATE:20240310T020000
END:DAYLIGHT
END:VTIMEZONE
BEGIN:VEVENT
UID:63c637ee-5872-4d45-a952-c677c1ddfa1f
DTSTAMP:20260423T105018Z
DESCRIPTION:Hannukah is a Jewish festival of lights that lasts roughly nine
  days and has cultural\, religious\, and historical significance. It is an
  important occasion for Jewish people and we wish all who celebrate a joyf
 ul time!
DTSTART;TZID=America/New_York:20221218T000000
DTEND;TZID=America/New_York:20221218T235900
LOCATION:
SUMMARY:Hannukah
END:VEVENT
END:VCALENDAR
