BEGIN:VCALENDAR
VERSION:2.0
PRODID:-//myllife.org//NONSGML kigkonsult.se iCalcreator 2.30.10//
CALSCALE:GREGORIAN
METHOD:PUBLISH
UID:2cff55f2-c2fb-446f-9bc5-075faf7a2ec6
X-WR-CALDESC:Christmas' Eve is observed on December 24th and is the evening
  before Christmas which is a holiday that celebrates the birth of Jesus. H
 appy Christmas' Eve to all and we wish you a very merry time!
X-WR-RELCALID:4249870aa78cd880e34cb8c65bc08c7c
X-WR-TIMEZONE:America/New_York
BEGIN:VTIMEZONE
TZID:America/New_York
BEGIN:STANDARD
TZNAME:EST
DTSTART:20221106T020000
TZOFFSETFROM:-0400
TZOFFSETTO:-0500
RDATE:20231105T020000
END:STANDARD
BEGIN:DAYLIGHT
TZNAME:EDT
DTSTART:20220313T020000
TZOFFSETFROM:-0500
TZOFFSETTO:-0400
RDATE:20230312T020000
RDATE:20240310T020000
END:DAYLIGHT
END:VTIMEZONE
BEGIN:VEVENT
UID:9c8ca16d-54ae-4cb9-80d4-4d98f94c129a
DTSTAMP:20260423T105606Z
DESCRIPTION:Christmas' Eve is observed on December 24th and is the evening 
 before Christmas which is a holiday that celebrates the birth of Jesus. Ha
 ppy Christmas' Eve to all and we wish you a very merry time!
DTSTART;TZID=America/New_York:20221224T000000
DTEND;TZID=America/New_York:20221224T235900
LOCATION:
SUMMARY:Christmas' Eve
END:VEVENT
END:VCALENDAR
