BEGIN:VCALENDAR
VERSION:2.0
PRODID:-//myllife.org//NONSGML kigkonsult.se iCalcreator 2.30.10//
CALSCALE:GREGORIAN
METHOD:PUBLISH
UID:97d3b0b1-6358-4389-a499-6a6b8949b6bc
X-WR-CALDESC:Christmas Day is observed globally on December 25th each year 
 by billions of people. It is widely celebrated by peoples of various relig
 ions but is considered to be a Christian holiday that celebrates the birth
  of Jesus. Merry Christmas to all!
X-WR-RELCALID:df5faeab91743b8045c68065f4a38a29
X-WR-TIMEZONE:America/New_York
BEGIN:VTIMEZONE
TZID:America/New_York
BEGIN:STANDARD
TZNAME:EST
DTSTART:20221106T020000
TZOFFSETFROM:-0400
TZOFFSETTO:-0500
RDATE:20231105T020000
END:STANDARD
BEGIN:DAYLIGHT
TZNAME:EDT
DTSTART:20220313T020000
TZOFFSETFROM:-0500
TZOFFSETTO:-0400
RDATE:20230312T020000
RDATE:20240310T020000
END:DAYLIGHT
END:VTIMEZONE
BEGIN:VEVENT
UID:c821137e-8043-4946-ab3c-0aca873286ca
DTSTAMP:20260423T105018Z
DESCRIPTION:Christmas Day is observed globally on December 25th each year b
 y billions of people. It is widely celebrated by peoples of various religi
 ons but is considered to be a Christian holiday that celebrates the birth 
 of Jesus. Merry Christmas to all!
DTSTART;TZID=America/New_York:20221225T000000
DTEND;TZID=America/New_York:20221225T235900
LOCATION:
SUMMARY:Christmas Day
END:VEVENT
END:VCALENDAR
