BEGIN:VCALENDAR
VERSION:2.0
PRODID:-//myllife.org//NONSGML kigkonsult.se iCalcreator 2.30.10//
CALSCALE:GREGORIAN
METHOD:PUBLISH
UID:3f7b7ade-732c-42b2-abce-bb3a7fc5d5ff
X-WR-CALDESC:Kwanzaa is a holiday that is observed annually from December 2
 6 to January 1 and celebrated and commemorates African American culture. O
 n the sixth day of Kwanzaa\, a feast called Karamu is held. We wish all wh
 o celebrate a happy and joyous time! Happy Kwanzaa!
X-WR-RELCALID:ec8983aa9caf0b0bc115cded110b07f9
X-WR-TIMEZONE:America/New_York
BEGIN:VTIMEZONE
TZID:America/New_York
BEGIN:STANDARD
TZNAME:EST
DTSTART:20221106T020000
TZOFFSETFROM:-0400
TZOFFSETTO:-0500
RDATE:20231105T020000
END:STANDARD
BEGIN:DAYLIGHT
TZNAME:EDT
DTSTART:20220313T020000
TZOFFSETFROM:-0500
TZOFFSETTO:-0400
RDATE:20230312T020000
RDATE:20240310T020000
END:DAYLIGHT
END:VTIMEZONE
BEGIN:VEVENT
UID:02dba39e-936b-4942-b5bc-921d4a595044
DTSTAMP:20260423T104955Z
DESCRIPTION:Kwanzaa is a holiday that is observed annually from December 26
  to January 1 and celebrated and commemorates African American culture. On
  the sixth day of Kwanzaa\, a feast called Karamu is held. We wish all who
  celebrate a happy and joyous time! Happy Kwanzaa!
DTSTART;TZID=America/New_York:20221226T000000
DTEND;TZID=America/New_York:20221226T235900
LOCATION:
SUMMARY:Kwanzaa
END:VEVENT
END:VCALENDAR
