BEGIN:VCALENDAR
VERSION:2.0
PRODID:-//myllife.org//NONSGML kigkonsult.se iCalcreator 2.30.10//
CALSCALE:GREGORIAN
METHOD:PUBLISH
UID:6b111e7e-73eb-44da-bac2-8a27687cecb6
X-WR-CALDESC:Join us to explore Ramadan\, learn about its history in the sc
 ripture and different cultures and Muslim faiths and will inspire us to ha
 ve a renewed and nuanced perspective and develop a collective experience t
 hat we can share during Ramadan!
X-WR-RELCALID:5cf8c6a166b76c68343ade62773d9897
X-WR-TIMEZONE:America/New_York
BEGIN:VTIMEZONE
TZID:America/New_York
BEGIN:STANDARD
TZNAME:EST
DTSTART:20221106T020000
TZOFFSETFROM:-0400
TZOFFSETTO:-0500
RDATE:20231105T020000
END:STANDARD
BEGIN:DAYLIGHT
TZNAME:EDT
DTSTART:20220313T020000
TZOFFSETFROM:-0500
TZOFFSETTO:-0400
RDATE:20230312T020000
RDATE:20240310T020000
END:DAYLIGHT
END:VTIMEZONE
BEGIN:VEVENT
UID:a9e4fe70-a78a-4b93-a6f2-10bbd22b2b0d
DTSTAMP:20260423T060507Z
DESCRIPTION:Join us to explore Ramadan\, learn about its history in the scr
 ipture and different cultures and Muslim faiths and will inspire us to hav
 e a renewed and nuanced perspective and develop a collective experience th
 at we can share during Ramadan!
DTSTART;TZID=America/New_York:20230311T200000
DTEND;TZID=America/New_York:20230311T210000
LOCATION:https://us06web.zoom.us/j/86574129320
SUMMARY:Ramadan - 'Beyond Rituals'
END:VEVENT
END:VCALENDAR
