BEGIN:VCALENDAR
VERSION:2.0
PRODID:-//myllife.org//NONSGML kigkonsult.se iCalcreator 2.30.10//
CALSCALE:GREGORIAN
METHOD:PUBLISH
UID:07d59821-ed31-4700-94e1-93512247f9ce
X-WR-CALDESC:This is the second special Ramadan session focusing on the Qur
 'an where we will discuss the importance of the Qur’an in our lives\, the 
 way to read and understand Qur’an and develop a culture of shared understa
 nding on it!
X-WR-RELCALID:804cefe769878991d1f869a1e6aa051f
X-WR-TIMEZONE:America/New_York
BEGIN:VTIMEZONE
TZID:America/New_York
BEGIN:STANDARD
TZNAME:EST
DTSTART:20221106T020000
TZOFFSETFROM:-0400
TZOFFSETTO:-0500
RDATE:20231105T020000
END:STANDARD
BEGIN:DAYLIGHT
TZNAME:EDT
DTSTART:20230312T020000
TZOFFSETFROM:-0500
TZOFFSETTO:-0400
RDATE:20240310T020000
END:DAYLIGHT
END:VTIMEZONE
BEGIN:VEVENT
UID:b15a1e54-27da-4456-8367-acd793816ecf
DTSTAMP:20260423T063027Z
DESCRIPTION:This is the second special Ramadan session focusing on the Qur'
 an where we will discuss the importance of the Qur’an in our lives\, the w
 ay to read and understand Qur’an and develop a culture of shared understan
 ding on it!
DTSTART;TZID=America/New_York:20230317T210000
DTEND;TZID=America/New_York:20230317T220000
LOCATION:https://us06web.zoom.us/j/88902463635
SUMMARY:The Qur'an - 'How do I understand?'
END:VEVENT
END:VCALENDAR
