BEGIN:VCALENDAR
VERSION:2.0
PRODID:-//myllife.org//NONSGML kigkonsult.se iCalcreator 2.30.10//
CALSCALE:GREGORIAN
METHOD:PUBLISH
UID:f372d58f-1e52-42bb-8961-fc692116af5b
X-WR-CALDESC:Ramdan is the ninth month on the Islamic calendar and is the m
 ost important month to Muslims. They spend the month immersed in deep pray
 er and fast each day. We wish the best to all Muslims fasting and praying 
 during this holy month! Ramadan Mubarak to all!
X-WR-RELCALID:b0d6ca60c68f9c3f20ad009d7f4db5ff
X-WR-TIMEZONE:America/New_York
BEGIN:VTIMEZONE
TZID:America/New_York
BEGIN:STANDARD
TZNAME:EST
DTSTART:20221106T020000
TZOFFSETFROM:-0400
TZOFFSETTO:-0500
RDATE:20231105T020000
END:STANDARD
BEGIN:DAYLIGHT
TZNAME:EDT
DTSTART:20230312T020000
TZOFFSETFROM:-0500
TZOFFSETTO:-0400
RDATE:20240310T020000
END:DAYLIGHT
END:VTIMEZONE
BEGIN:VEVENT
UID:acb5aaad-98c6-41d1-974a-d24747e7c616
DTSTAMP:20260423T043519Z
DESCRIPTION:Ramdan is the ninth month on the Islamic calendar and is the mo
 st important month to Muslims. They spend the month immersed in deep praye
 r and fast each day. We wish the best to all Muslims fasting and praying d
 uring this holy month! Ramadan Mubarak to all!
DTSTART;TZID=America/New_York:20230322T000000
DTEND;TZID=America/New_York:20230420T235900
LOCATION:
SUMMARY:Ramadan
END:VEVENT
END:VCALENDAR
