BEGIN:VCALENDAR
VERSION:2.0
PRODID:-//myllife.org//NONSGML kigkonsult.se iCalcreator 2.30.10//
CALSCALE:GREGORIAN
METHOD:PUBLISH
UID:804f4a5e-8d4b-4309-a44f-2004e26143b8
X-WR-CALDESC:Every year during the month of Ramadan\, MyLLife hosts a night
 ly Qur'anic reading session virtually on Zoom. Please join us to discuss o
 ur faith and learn more about Islam!
X-WR-RELCALID:a54dc8de3bfdd58dc3d38999faaf08a1
X-WR-TIMEZONE:America/New_York
BEGIN:VTIMEZONE
TZID:America/New_York
BEGIN:STANDARD
TZNAME:EST
DTSTART:20221106T020000
TZOFFSETFROM:-0400
TZOFFSETTO:-0500
RDATE:20231105T020000
END:STANDARD
BEGIN:DAYLIGHT
TZNAME:EDT
DTSTART:20230312T020000
TZOFFSETFROM:-0500
TZOFFSETTO:-0400
RDATE:20240310T020000
END:DAYLIGHT
END:VTIMEZONE
BEGIN:VEVENT
UID:f28df811-4599-4f9c-b43d-44de706cdacf
DTSTAMP:20260423T061611Z
DESCRIPTION:Every year during the month of Ramadan\, MyLLife hosts a nightl
 y Qur'anic reading session virtually on Zoom. Please join us to discuss ou
 r faith and learn more about Islam!
DTSTART;TZID=America/New_York:20230322T210000
DTEND;TZID=America/New_York:20230322T220000
LOCATION:https://us06web.zoom.us/j/84991666322
SUMMARY:Nightly Ramadan Reading
END:VEVENT
END:VCALENDAR
