BEGIN:VCALENDAR
VERSION:2.0
PRODID:-//myllife.org//NONSGML kigkonsult.se iCalcreator 2.30.10//
CALSCALE:GREGORIAN
METHOD:PUBLISH
UID:9a2d8847-2e26-4ea6-9f6a-c9670d023cf9
X-WR-CALDESC:Every year during the month of Ramadan\, MyLLife hosts a night
 ly Qur'anic reading session virtually on Zoom. Please join us to discuss o
 ur faith and learn more about Islam!
X-WR-RELCALID:82588d2e08afe59224be9748d24ba5a5
X-WR-TIMEZONE:America/New_York
BEGIN:VTIMEZONE
TZID:America/New_York
BEGIN:STANDARD
TZNAME:EST
DTSTART:20221106T020000
TZOFFSETFROM:-0400
TZOFFSETTO:-0500
RDATE:20231105T020000
END:STANDARD
BEGIN:DAYLIGHT
TZNAME:EDT
DTSTART:20230312T020000
TZOFFSETFROM:-0500
TZOFFSETTO:-0400
RDATE:20240310T020000
END:DAYLIGHT
END:VTIMEZONE
BEGIN:VEVENT
UID:0ebd2f07-107b-48dc-a573-d839424c08a9
DTSTAMP:20260423T043724Z
DESCRIPTION:Every year during the month of Ramadan\, MyLLife hosts a nightl
 y Qur'anic reading session virtually on Zoom. Please join us to discuss ou
 r faith and learn more about Islam!
DTSTART;TZID=America/New_York:20230403T210000
DTEND;TZID=America/New_York:20230403T220000
LOCATION:https://us06web.zoom.us/j/84991666322
SUMMARY:Nightly Ramadan Reading
END:VEVENT
END:VCALENDAR
