BEGIN:VCALENDAR
VERSION:2.0
PRODID:-//myllife.org//NONSGML kigkonsult.se iCalcreator 2.30.10//
CALSCALE:GREGORIAN
METHOD:PUBLISH
UID:33002162-d5f9-4ddf-8a56-514645b01d52
X-WR-CALDESC:Every year during the month of Ramadan\, MyLLife hosts a night
 ly Qur'anic reading session virtually on Zoom. Please join us to discuss o
 ur faith and learn more about Islam!
X-WR-RELCALID:2ed62924c1a7d2a7f105f4d7927b73f3
X-WR-TIMEZONE:America/New_York
BEGIN:VTIMEZONE
TZID:America/New_York
BEGIN:STANDARD
TZNAME:EST
DTSTART:20221106T020000
TZOFFSETFROM:-0400
TZOFFSETTO:-0500
RDATE:20231105T020000
END:STANDARD
BEGIN:DAYLIGHT
TZNAME:EDT
DTSTART:20230312T020000
TZOFFSETFROM:-0500
TZOFFSETTO:-0400
RDATE:20240310T020000
END:DAYLIGHT
END:VTIMEZONE
BEGIN:VEVENT
UID:7cf783af-4760-49b2-b0d9-87ddb56f6cc6
DTSTAMP:20260423T043552Z
DESCRIPTION:Every year during the month of Ramadan\, MyLLife hosts a nightl
 y Qur'anic reading session virtually on Zoom. Please join us to discuss ou
 r faith and learn more about Islam!
DTSTART;TZID=America/New_York:20230405T210000
DTEND;TZID=America/New_York:20230405T220000
LOCATION:https://us06web.zoom.us/j/84991666322
SUMMARY:Nightly Ramadan Reading
END:VEVENT
END:VCALENDAR
