BEGIN:VCALENDAR
VERSION:2.0
PRODID:-//myllife.org//NONSGML kigkonsult.se iCalcreator 2.30.10//
CALSCALE:GREGORIAN
METHOD:PUBLISH
UID:85756e5d-eb8d-48e9-8ebd-48cfa63b02c2
X-WR-CALDESC:Every year during the month of Ramadan\, MyLLife hosts a night
 ly Qur'anic reading session virtually on Zoom. Please join us to discuss o
 ur faith and learn more about Islam!
X-WR-RELCALID:f67a1f74e942ad6265eb553e808eb962
X-WR-TIMEZONE:America/New_York
BEGIN:VTIMEZONE
TZID:America/New_York
BEGIN:STANDARD
TZNAME:EST
DTSTART:20221106T020000
TZOFFSETFROM:-0400
TZOFFSETTO:-0500
RDATE:20231105T020000
END:STANDARD
BEGIN:DAYLIGHT
TZNAME:EDT
DTSTART:20230312T020000
TZOFFSETFROM:-0500
TZOFFSETTO:-0400
RDATE:20240310T020000
END:DAYLIGHT
END:VTIMEZONE
BEGIN:VEVENT
UID:7c1e23b8-4f68-4660-82ce-53dc078da87b
DTSTAMP:20260423T043718Z
DESCRIPTION:Every year during the month of Ramadan\, MyLLife hosts a nightl
 y Qur'anic reading session virtually on Zoom. Please join us to discuss ou
 r faith and learn more about Islam!
DTSTART;TZID=America/New_York:20230411T210000
DTEND;TZID=America/New_York:20230411T220000
LOCATION:https://us06web.zoom.us/j/84991666322
SUMMARY:Nightly Ramadan Reading
END:VEVENT
END:VCALENDAR
