BEGIN:VCALENDAR
VERSION:2.0
PRODID:-//myllife.org//NONSGML kigkonsult.se iCalcreator 2.30.10//
CALSCALE:GREGORIAN
METHOD:PUBLISH
UID:6f4981c0-c38a-4d84-8839-85c6569373a7
X-WR-CALDESC:Every year during the month of Ramadan\, MyLLife hosts a night
 ly Qur'anic reading session virtually on Zoom. Please join us to discuss o
 ur faith and learn more about Islam!
X-WR-RELCALID:c5118cc1362105928a9816f4898a14a5
X-WR-TIMEZONE:America/New_York
BEGIN:VTIMEZONE
TZID:America/New_York
BEGIN:STANDARD
TZNAME:EST
DTSTART:20221106T020000
TZOFFSETFROM:-0400
TZOFFSETTO:-0500
RDATE:20231105T020000
END:STANDARD
BEGIN:DAYLIGHT
TZNAME:EDT
DTSTART:20230312T020000
TZOFFSETFROM:-0500
TZOFFSETTO:-0400
RDATE:20240310T020000
END:DAYLIGHT
END:VTIMEZONE
BEGIN:VEVENT
UID:6a7d3b0f-5915-4c73-9c73-458366fe2671
DTSTAMP:20260423T044016Z
DESCRIPTION:Every year during the month of Ramadan\, MyLLife hosts a nightl
 y Qur'anic reading session virtually on Zoom. Please join us to discuss ou
 r faith and learn more about Islam!
DTSTART;TZID=America/New_York:20230413T210000
DTEND;TZID=America/New_York:20230413T220000
LOCATION:https://us06web.zoom.us/j/84991666322
SUMMARY:Nightly Ramadan Reading
END:VEVENT
END:VCALENDAR
