BEGIN:VCALENDAR
VERSION:2.0
PRODID:-//myllife.org//NONSGML kigkonsult.se iCalcreator 2.30.10//
CALSCALE:GREGORIAN
METHOD:PUBLISH
UID:7f75fc54-4319-463d-928c-e47d09ef67a7
X-WR-CALDESC:Eid al-Fitr is observed the day following the last day of Rama
 dan and signifies the end of Ramadan. It is an auspicious and celebratory 
 day for all Muslims. Eid Mubarak and best wishes!
X-WR-RELCALID:9f7f5f3a403f6f1ba71f5711f6834009
X-WR-TIMEZONE:America/New_York
BEGIN:VTIMEZONE
TZID:America/New_York
BEGIN:STANDARD
TZNAME:EST
DTSTART:20221106T020000
TZOFFSETFROM:-0400
TZOFFSETTO:-0500
RDATE:20231105T020000
END:STANDARD
BEGIN:DAYLIGHT
TZNAME:EDT
DTSTART:20230312T020000
TZOFFSETFROM:-0500
TZOFFSETTO:-0400
RDATE:20240310T020000
END:DAYLIGHT
END:VTIMEZONE
BEGIN:VEVENT
UID:35a04484-79e7-4603-8dd9-64e4a230fe03
DTSTAMP:20260423T043552Z
DESCRIPTION:Eid al-Fitr is observed the day following the last day of Ramad
 an and signifies the end of Ramadan. It is an auspicious and celebratory d
 ay for all Muslims. Eid Mubarak and best wishes!
DTSTART;TZID=America/New_York:20230421T000000
DTEND;TZID=America/New_York:20230421T235900
LOCATION:
SUMMARY:Eid al-Fitr
END:VEVENT
END:VCALENDAR
