BEGIN:VCALENDAR
VERSION:2.0
PRODID:-//myllife.org//NONSGML kigkonsult.se iCalcreator 2.30.10//
CALSCALE:GREGORIAN
METHOD:PUBLISH
UID:90e05bd8-04ee-4bd7-a59e-295c5c6cc325
X-WR-CALDESC:Join us as we celebrate Eid al-Fitr on April 22\, from 9AM til
 l sunset at Lake Accotink's Small Shelter! Refreshments and food will be p
 rovided! Eid Mubarak! Please register for the event so we can prepare acco
 rdingly!
X-WR-RELCALID:ba653eff49b474218dcecae8c9d044d1
X-WR-TIMEZONE:America/New_York
BEGIN:VTIMEZONE
TZID:America/New_York
BEGIN:STANDARD
TZNAME:EST
DTSTART:20221106T020000
TZOFFSETFROM:-0400
TZOFFSETTO:-0500
RDATE:20231105T020000
END:STANDARD
BEGIN:DAYLIGHT
TZNAME:EDT
DTSTART:20230312T020000
TZOFFSETFROM:-0500
TZOFFSETTO:-0400
RDATE:20240310T020000
END:DAYLIGHT
END:VTIMEZONE
BEGIN:VEVENT
UID:a7b3a521-4340-4b11-acf0-5fabcf995b4c
DTSTAMP:20260423T042819Z
DESCRIPTION:Join us as we celebrate Eid al-Fitr on April 22\, from 9AM till
  sunset at Lake Accotink's Small Shelter! Refreshments and food will be pr
 ovided! Eid Mubarak! Please register for the event so we can prepare accor
 dingly!
DTSTART;TZID=America/New_York:20230422T000000
DTEND;TZID=America/New_York:20230422T235900
LOCATION:Lake Accotink Small Shelter
SUMMARY:Eid al-Fitr Picnic
END:VEVENT
END:VCALENDAR
