BEGIN:VCALENDAR
VERSION:2.0
PRODID:-//myllife.org//NONSGML kigkonsult.se iCalcreator 2.30.10//
CALSCALE:GREGORIAN
METHOD:PUBLISH
UID:85c32068-b5cb-447c-b5f6-792728928ece
X-WR-CALDESC:MyLLife Inc will be hosting virtual Weekly Qur’an readings eve
 ry Friday from 9-10 pm EST starting May 12. One session per month will be 
 a 90-minute special topic session. All are welcome!
X-WR-RELCALID:302a3f542334d5faf0e5b3f45cc168a5
X-WR-TIMEZONE:America/New_York
BEGIN:VTIMEZONE
TZID:America/New_York
BEGIN:STANDARD
TZNAME:EST
DTSTART:20221106T020000
TZOFFSETFROM:-0400
TZOFFSETTO:-0500
RDATE:20231105T020000
RDATE:20241103T020000
END:STANDARD
BEGIN:DAYLIGHT
TZNAME:EDT
DTSTART:20230312T020000
TZOFFSETFROM:-0500
TZOFFSETTO:-0400
RDATE:20240310T020000
END:DAYLIGHT
END:VTIMEZONE
BEGIN:VEVENT
UID:8b1a88fc-a6f6-4994-8321-281f59a1dfc2
DTSTAMP:20260423T030125Z
DESCRIPTION:MyLLife Inc will be hosting virtual Weekly Qur’an readings ever
 y Friday from 9-10 pm EST starting May 12. One session per month will be a
  90-minute special topic session. All are welcome!
DTSTART;TZID=America/New_York:20230512T210000
DTEND;TZID=America/New_York:20230512T220000
LOCATION:https://us06web.zoom.us/j/83793223526?pwd=d3RkdUVYNWt3SzIycXRGYjlE
 NXA2Zz09
SUMMARY:Journey into the Qur'an: Weekly Zoom Discussions
END:VEVENT
END:VCALENDAR
