BEGIN:VCALENDAR
VERSION:2.0
PRODID:-//myllife.org//NONSGML kigkonsult.se iCalcreator 2.30.10//
CALSCALE:GREGORIAN
METHOD:PUBLISH
UID:ef49385e-726f-4ed0-b79a-d3eeb944cf80
X-WR-CALDESC:
X-WR-RELCALID:8ef4290175bac3e5e8d5213e2b9ac3bb
X-WR-TIMEZONE:America/New_York
BEGIN:VTIMEZONE
TZID:America/New_York
BEGIN:STANDARD
TZNAME:EST
DTSTART:20221106T020000
TZOFFSETFROM:-0400
TZOFFSETTO:-0500
RDATE:20231105T020000
RDATE:20241103T020000
END:STANDARD
BEGIN:DAYLIGHT
TZNAME:EDT
DTSTART:20230312T020000
TZOFFSETFROM:-0500
TZOFFSETTO:-0400
RDATE:20240310T020000
END:DAYLIGHT
END:VTIMEZONE
BEGIN:VEVENT
UID:8dd31f59-afeb-4514-8830-c8af12db286a
DTSTAMP:20260423T030028Z
DESCRIPTION:
DTSTART;TZID=America/New_York:20230526T163000
DTEND;TZID=America/New_York:20230526T173000
LOCATION:https://us06web.zoom.us/j/89692724949
SUMMARY:MyLLife Scholars Zoom Meeting
END:VEVENT
END:VCALENDAR
