BEGIN:VCALENDAR
VERSION:2.0
PRODID:-//myllife.org//NONSGML kigkonsult.se iCalcreator 2.30.10//
CALSCALE:GREGORIAN
METHOD:PUBLISH
UID:b729ee7d-f55b-4f9d-ad4f-1483d0c11e98
X-WR-CALDESC:MyLLife Inc will be hosting virtual Weekly Qur’an readings eve
 ry Friday from 9-10 pm EST starting May 12. One session per month will be 
 a 90-minute special topic session. All are welcome!
X-WR-RELCALID:e0b38b43bbe788665c87b0413f663451
X-WR-TIMEZONE:America/New_York
BEGIN:VTIMEZONE
TZID:America/New_York
BEGIN:STANDARD
TZNAME:EST
DTSTART:20221106T020000
TZOFFSETFROM:-0400
TZOFFSETTO:-0500
RDATE:20231105T020000
RDATE:20241103T020000
END:STANDARD
BEGIN:DAYLIGHT
TZNAME:EDT
DTSTART:20230312T020000
TZOFFSETFROM:-0500
TZOFFSETTO:-0400
RDATE:20240310T020000
END:DAYLIGHT
END:VTIMEZONE
BEGIN:VEVENT
UID:a1a0e1cb-30b9-48c7-8c67-8a6d1b5d3a04
DTSTAMP:20260423T011212Z
DESCRIPTION:MyLLife Inc will be hosting virtual Weekly Qur’an readings ever
 y Friday from 9-10 pm EST starting May 12. One session per month will be a
  90-minute special topic session. All are welcome!
DTSTART;TZID=America/New_York:20230616T210000
DTEND;TZID=America/New_York:20230616T220000
LOCATION:https://us06web.zoom.us/j/83793223526?pwd=d3RkdUVYNWt3SzIycXRGYjlE
 NXA2Zz09
SUMMARY:Journey into the Qur'an: Weekly Zoom Discussions
END:VEVENT
END:VCALENDAR
