BEGIN:VCALENDAR
VERSION:2.0
PRODID:-//myllife.org//NONSGML kigkonsult.se iCalcreator 2.30.10//
CALSCALE:GREGORIAN
METHOD:PUBLISH
UID:f15985de-d6c4-4b51-a436-bfd40b2a6b59
X-WR-CALDESC:Father's day is a holiday celebrated around the world. It is i
 mportant to appreciate and recognize our fathers and acknowledge the work 
 and effort they have put in. Please take the time to show appreciation for
  your fathers. We wish you a pleasant and joyful Father's Day!
X-WR-RELCALID:b2e9deb3ed9bb682a4e52ead3616c51b
X-WR-TIMEZONE:America/New_York
BEGIN:VTIMEZONE
TZID:America/New_York
BEGIN:STANDARD
TZNAME:EST
DTSTART:20221106T020000
TZOFFSETFROM:-0400
TZOFFSETTO:-0500
RDATE:20231105T020000
RDATE:20241103T020000
END:STANDARD
BEGIN:DAYLIGHT
TZNAME:EDT
DTSTART:20230312T020000
TZOFFSETFROM:-0500
TZOFFSETTO:-0400
RDATE:20240310T020000
END:DAYLIGHT
END:VTIMEZONE
BEGIN:VEVENT
UID:728029b7-e3f6-42ff-b71f-ac33e49e562d
DTSTAMP:20260423T011132Z
DESCRIPTION:Father's day is a holiday celebrated around the world. It is im
 portant to appreciate and recognize our fathers and acknowledge the work a
 nd effort they have put in. Please take the time to show appreciation for 
 your fathers. We wish you a pleasant and joyful Father's Day!
DTSTART;TZID=America/New_York:20230618T000000
DTEND;TZID=America/New_York:20230618T235900
LOCATION:
SUMMARY:Father's Day
END:VEVENT
END:VCALENDAR
