BEGIN:VCALENDAR
VERSION:2.0
PRODID:-//myllife.org//NONSGML kigkonsult.se iCalcreator 2.30.10//
CALSCALE:GREGORIAN
METHOD:PUBLISH
UID:dc26fb82-a77a-471d-82ab-fbf0aeb89359
X-WR-CALDESC:Tentative - Time & Location TBD
X-WR-RELCALID:5a1903148496effab88ff1b1e0015dc8
X-WR-TIMEZONE:America/New_York
BEGIN:VTIMEZONE
TZID:America/New_York
BEGIN:STANDARD
TZNAME:EST
DTSTART:20221106T020000
TZOFFSETFROM:-0400
TZOFFSETTO:-0500
RDATE:20231105T020000
RDATE:20241103T020000
END:STANDARD
BEGIN:DAYLIGHT
TZNAME:EDT
DTSTART:20230312T020000
TZOFFSETFROM:-0500
TZOFFSETTO:-0400
RDATE:20240310T020000
END:DAYLIGHT
END:VTIMEZONE
BEGIN:VEVENT
UID:87461253-860d-4a64-a502-8a11d827f1b2
DTSTAMP:20260423T011551Z
DESCRIPTION:Tentative - Time & Location TBD
DTSTART;TZID=America/New_York:20230629T000000
DTEND;TZID=America/New_York:20230630T025900
LOCATION:TBD
SUMMARY:Eid Prayer - Time & Location TBD
END:VEVENT
END:VCALENDAR
