BEGIN:VCALENDAR
VERSION:2.0
PRODID:-//myllife.org//NONSGML kigkonsult.se iCalcreator 2.30.10//
CALSCALE:GREGORIAN
METHOD:PUBLISH
UID:1943a795-7271-44b0-9c76-cd7dbb682569
X-WR-CALDESC:Ashura is the tenth day of Muharram which is the first month o
 f the Islamic calendar. It is an important holiday to Muslims and bears ex
 treme religious and cultural significance.
X-WR-RELCALID:35f18e77fe08acb71d98ebac107de181
X-WR-TIMEZONE:America/New_York
BEGIN:VTIMEZONE
TZID:America/New_York
BEGIN:STANDARD
TZNAME:EST
DTSTART:20221106T020000
TZOFFSETFROM:-0400
TZOFFSETTO:-0500
RDATE:20231105T020000
RDATE:20241103T020000
END:STANDARD
BEGIN:DAYLIGHT
TZNAME:EDT
DTSTART:20230312T020000
TZOFFSETFROM:-0500
TZOFFSETTO:-0400
RDATE:20240310T020000
END:DAYLIGHT
END:VTIMEZONE
BEGIN:VEVENT
UID:19618929-59a7-4c91-a6ad-99653ae2c707
DTSTAMP:20260422T233017Z
DESCRIPTION:Ashura is the tenth day of Muharram which is the first month of
  the Islamic calendar. It is an important holiday to Muslims and bears ext
 reme religious and cultural significance.
DTSTART;TZID=America/New_York:20230728T000000
DTEND;TZID=America/New_York:20230728T235900
LOCATION:
SUMMARY:Ashura
END:VEVENT
END:VCALENDAR
