BEGIN:VCALENDAR
VERSION:2.0
PRODID:-//myllife.org//NONSGML kigkonsult.se iCalcreator 2.30.10//
CALSCALE:GREGORIAN
METHOD:PUBLISH
UID:29f9e449-981a-4c03-a808-c5be077ac9d3
X-WR-CALDESC:Tentative - Time & Location TBD
X-WR-RELCALID:cfa472fc45a7d23ba2ecdcc997b29060
X-WR-TIMEZONE:America/New_York
BEGIN:VTIMEZONE
TZID:America/New_York
BEGIN:STANDARD
TZNAME:EST
DTSTART:20221106T020000
TZOFFSETFROM:-0400
TZOFFSETTO:-0500
RDATE:20231105T020000
RDATE:20241103T020000
END:STANDARD
BEGIN:DAYLIGHT
TZNAME:EDT
DTSTART:20230312T020000
TZOFFSETFROM:-0500
TZOFFSETTO:-0400
RDATE:20240310T020000
END:DAYLIGHT
END:VTIMEZONE
BEGIN:VEVENT
UID:5c7ea1f1-bb62-46c1-9f79-2ee043b6c099
DTSTAMP:20260422T214117Z
DESCRIPTION:Tentative - Time & Location TBD
DTSTART;TZID=America/New_York:20230826T000000
DTEND;TZID=America/New_York:20230827T025900
LOCATION:Tentative - Time & Location TBD
SUMMARY:Annual Retreat - Time & Location TBD
END:VEVENT
END:VCALENDAR
