BEGIN:VCALENDAR
VERSION:2.0
PRODID:-//myllife.org//NONSGML kigkonsult.se iCalcreator 2.30.10//
CALSCALE:GREGORIAN
METHOD:PUBLISH
UID:e4bb6ded-3a99-451e-971d-acab06a06b1d
X-WR-CALDESC:Rosh Hashanah is the Jewish New Year. Happy Rosh Hashanah to a
 ll!
X-WR-RELCALID:2117a6cbf71313531a65a2349b8beef8
X-WR-TIMEZONE:America/New_York
BEGIN:VTIMEZONE
TZID:America/New_York
BEGIN:STANDARD
TZNAME:EST
DTSTART:20221106T020000
TZOFFSETFROM:-0400
TZOFFSETTO:-0500
RDATE:20231105T020000
RDATE:20241103T020000
END:STANDARD
BEGIN:DAYLIGHT
TZNAME:EDT
DTSTART:20230312T020000
TZOFFSETFROM:-0500
TZOFFSETTO:-0400
RDATE:20240310T020000
END:DAYLIGHT
END:VTIMEZONE
BEGIN:VEVENT
UID:17294e40-0b04-4c62-80a0-5265d61937fb
DTSTAMP:20260422T195759Z
DESCRIPTION:Rosh Hashanah is the Jewish New Year. Happy Rosh Hashanah to al
 l!
DTSTART;TZID=America/New_York:20230907T000000
DTEND;TZID=America/New_York:20230907T235900
LOCATION:
SUMMARY:Rosh Hashanah
END:VEVENT
END:VCALENDAR
