BEGIN:VCALENDAR
VERSION:2.0
PRODID:-//myllife.org//NONSGML kigkonsult.se iCalcreator 2.30.10//
CALSCALE:GREGORIAN
METHOD:PUBLISH
UID:698bda16-ac3a-4f7c-ad72-d24c178cdf38
X-WR-CALDESC:Yom Kippur\, also known as the Day of Atonement\, is the holie
 st day of the year in Judaism. This holiday is typically observed with dee
 p prayer as well as fasting. Happy Yom Kippur!
X-WR-RELCALID:7c1ab6d206dda29a6ea0a4f9ec0403ad
X-WR-TIMEZONE:America/New_York
BEGIN:VTIMEZONE
TZID:America/New_York
BEGIN:STANDARD
TZNAME:EST
DTSTART:20221106T020000
TZOFFSETFROM:-0400
TZOFFSETTO:-0500
RDATE:20231105T020000
RDATE:20241103T020000
END:STANDARD
BEGIN:DAYLIGHT
TZNAME:EDT
DTSTART:20230312T020000
TZOFFSETFROM:-0500
TZOFFSETTO:-0400
RDATE:20240310T020000
RDATE:20250309T020000
END:DAYLIGHT
END:VTIMEZONE
BEGIN:VEVENT
UID:1355d6da-c3fe-42d0-b83e-a3c984a6f2c5
DTSTAMP:20260422T195205Z
DESCRIPTION:Yom Kippur\, also known as the Day of Atonement\, is the holies
 t day of the year in Judaism. This holiday is typically observed with deep
  prayer as well as fasting. Happy Yom Kippur!
DTSTART;TZID=America/New_York:20230916T000000
DTEND;TZID=America/New_York:20230916T235900
LOCATION:
SUMMARY:Yom Kippur
END:VEVENT
END:VCALENDAR
