BEGIN:VCALENDAR
VERSION:2.0
PRODID:-//myllife.org//NONSGML kigkonsult.se iCalcreator 2.30.10//
CALSCALE:GREGORIAN
METHOD:PUBLISH
UID:0ea285a9-cf41-45ee-ab18-4088e0c1020a
X-WR-CALDESC:Diwali is a festival of lights celebrated by Hindus\, SIkhs\, 
 and others. This holiday typically lasts five days and is observed during 
 the Hindu lunisolar month Kartika. Happy Diwali!
X-WR-RELCALID:9f71eb85c6220516b53dc2387ab7bad5
X-WR-TIMEZONE:America/New_York
BEGIN:VTIMEZONE
TZID:America/New_York
BEGIN:STANDARD
TZNAME:EST
DTSTART:20221106T020000
TZOFFSETFROM:-0400
TZOFFSETTO:-0500
RDATE:20231105T020000
RDATE:20241103T020000
END:STANDARD
BEGIN:DAYLIGHT
TZNAME:EDT
DTSTART:20230312T020000
TZOFFSETFROM:-0500
TZOFFSETTO:-0400
RDATE:20240310T020000
RDATE:20250309T020000
END:DAYLIGHT
END:VTIMEZONE
BEGIN:VEVENT
UID:1350a6c6-0016-420f-a5c3-c2d8233a6f4d
DTSTAMP:20260422T161700Z
DESCRIPTION:Diwali is a festival of lights celebrated by Hindus\, SIkhs\, a
 nd others. This holiday typically lasts five days and is observed during t
 he Hindu lunisolar month Kartika. Happy Diwali!
DTSTART;TZID=America/New_York:20231104T000000
DTEND;TZID=America/New_York:20231104T235900
LOCATION:
SUMMARY:Diwali
END:VEVENT
END:VCALENDAR
