BEGIN:VCALENDAR
VERSION:2.0
PRODID:-//myllife.org//NONSGML kigkonsult.se iCalcreator 2.30.10//
CALSCALE:GREGORIAN
METHOD:PUBLISH
UID:15cc6ddc-793b-4d11-ab96-f660263a2ad9
X-WR-CALDESC:Thanksgiving is a national holiday celebrated on different day
 s in many countries. It is known as a time for family gathering\, grateful
 ness and most importantly: feasts. We wish you a happy and delectable Than
 ksgiving meal! Enjoy your time!
X-WR-RELCALID:3cf4bbe17af147f3f949ae605e6d9a7d
X-WR-TIMEZONE:America/New_York
BEGIN:VTIMEZONE
TZID:America/New_York
BEGIN:STANDARD
TZNAME:EST
DTSTART:20231105T020000
TZOFFSETFROM:-0400
TZOFFSETTO:-0500
RDATE:20241103T020000
END:STANDARD
BEGIN:DAYLIGHT
TZNAME:EDT
DTSTART:20230312T020000
TZOFFSETFROM:-0500
TZOFFSETTO:-0400
RDATE:20240310T020000
RDATE:20250309T020000
END:DAYLIGHT
END:VTIMEZONE
BEGIN:VEVENT
UID:1e206f9f-857f-4193-afaa-aa51fde46370
DTSTAMP:20260422T161653Z
DESCRIPTION:Thanksgiving is a national holiday celebrated on different days
  in many countries. It is known as a time for family gathering\, gratefuln
 ess and most importantly: feasts. We wish you a happy and delectable Thank
 sgiving meal! Enjoy your time!
DTSTART;TZID=America/New_York:20231125T000000
DTEND;TZID=America/New_York:20231125T235900
LOCATION:
SUMMARY:Thanksgiving
END:VEVENT
END:VCALENDAR
