BEGIN:VCALENDAR
VERSION:2.0
PRODID:-//myllife.org//NONSGML kigkonsult.se iCalcreator 2.30.10//
CALSCALE:GREGORIAN
METHOD:PUBLISH
UID:97260309-8053-4cc1-9521-f18ac596c00e
X-WR-CALDESC:Christmas' Eve is observed on December 24th and is the evening
  before Christmas which is a holiday that celebrates the birth of Jesus. H
 appy Christmas' Eve to all and we wish you a very merry time!
X-WR-RELCALID:c1c87340e2e0156306756ccd1dfaeb5e
X-WR-TIMEZONE:America/New_York
BEGIN:VTIMEZONE
TZID:America/New_York
BEGIN:STANDARD
TZNAME:EST
DTSTART:20231105T020000
TZOFFSETFROM:-0400
TZOFFSETTO:-0500
RDATE:20241103T020000
END:STANDARD
BEGIN:DAYLIGHT
TZNAME:EDT
DTSTART:20230312T020000
TZOFFSETFROM:-0500
TZOFFSETTO:-0400
RDATE:20240310T020000
RDATE:20250309T020000
END:DAYLIGHT
END:VTIMEZONE
BEGIN:VEVENT
UID:a21db533-0b86-4772-895d-c77143235ab5
DTSTAMP:20260422T142718Z
DESCRIPTION:Christmas' Eve is observed on December 24th and is the evening 
 before Christmas which is a holiday that celebrates the birth of Jesus. Ha
 ppy Christmas' Eve to all and we wish you a very merry time!
DTSTART;TZID=America/New_York:20231224T000000
DTEND;TZID=America/New_York:20231224T235900
LOCATION:
SUMMARY:Christmas' Eve
END:VEVENT
END:VCALENDAR
