BEGIN:VCALENDAR
VERSION:2.0
PRODID:-//myllife.org//NONSGML kigkonsult.se iCalcreator 2.30.10//
CALSCALE:GREGORIAN
METHOD:PUBLISH
UID:4762b19d-b37c-47bc-b6a1-b6b10c9e0bad
X-WR-CALDESC:Christmas Day is observed globally on December 25th each year 
 by billions of people. It is widely celebrated by peoples of various relig
 ions but is considered to be a Christian holiday that celebrates the birth
  of Jesus. Merry Christmas to all!
X-WR-RELCALID:f6459385e6e13912d8fba0f9cfe1c04a
X-WR-TIMEZONE:America/New_York
BEGIN:VTIMEZONE
TZID:America/New_York
BEGIN:STANDARD
TZNAME:EST
DTSTART:20231105T020000
TZOFFSETFROM:-0400
TZOFFSETTO:-0500
RDATE:20241103T020000
END:STANDARD
BEGIN:DAYLIGHT
TZNAME:EDT
DTSTART:20230312T020000
TZOFFSETFROM:-0500
TZOFFSETTO:-0400
RDATE:20240310T020000
RDATE:20250309T020000
END:DAYLIGHT
END:VTIMEZONE
BEGIN:VEVENT
UID:2e8a9dc9-7058-4c47-80df-d19b42147632
DTSTAMP:20260422T143209Z
DESCRIPTION:Christmas Day is observed globally on December 25th each year b
 y billions of people. It is widely celebrated by peoples of various religi
 ons but is considered to be a Christian holiday that celebrates the birth 
 of Jesus. Merry Christmas to all!
DTSTART;TZID=America/New_York:20231225T000000
DTEND;TZID=America/New_York:20231225T235900
LOCATION:
SUMMARY:Christmas Day
END:VEVENT
END:VCALENDAR
