BEGIN:VCALENDAR
VERSION:2.0
PRODID:-//myllife.org//NONSGML kigkonsult.se iCalcreator 2.30.10//
CALSCALE:GREGORIAN
METHOD:PUBLISH
UID:076b5672-d0d8-4576-aac3-60a5d0e56a0c
X-WR-CALDESC:
X-WR-RELCALID:989f097db5ae6f7d21b19bb86773ff3c
X-WR-TIMEZONE:America/New_York
BEGIN:VTIMEZONE
TZID:America/New_York
BEGIN:STANDARD
TZNAME:EST
DTSTART:20231105T020000
TZOFFSETFROM:-0400
TZOFFSETTO:-0500
RDATE:20241103T020000
END:STANDARD
BEGIN:DAYLIGHT
TZNAME:EDT
DTSTART:20230312T020000
TZOFFSETFROM:-0500
TZOFFSETTO:-0400
RDATE:20240310T020000
RDATE:20250309T020000
END:DAYLIGHT
END:VTIMEZONE
BEGIN:VEVENT
UID:454ae686-ca37-4a2c-b130-632d9eed84c7
DTSTAMP:20260422T110214Z
DESCRIPTION:
DTSTART;TZID=America/New_York:20240222T210000
DTEND;TZID=America/New_York:20240222T220000
LOCATION:https://us06web.zoom.us/j/88220758539
SUMMARY:Ramadan: Reflection & Understanding
END:VEVENT
END:VCALENDAR
