BEGIN:VCALENDAR
VERSION:2.0
PRODID:-//myllife.org//NONSGML kigkonsult.se iCalcreator 2.30.10//
CALSCALE:GREGORIAN
METHOD:PUBLISH
UID:32330bd7-cd05-472f-ab8e-93b8375725e5
X-WR-CALDESC:Every night during Ramadan\, MyLLife will host a nightly readi
 ng of the Qur’an in English. All are welcome!\nMarch 10 - April 8\nTimes: 
 9:00 pm EST\nLocation: Virtual (Zoom)
X-WR-RELCALID:53073dd39afca111d5c47db3ae05cc22
X-WR-TIMEZONE:America/New_York
BEGIN:VTIMEZONE
TZID:America/New_York
BEGIN:STANDARD
TZNAME:EST
DTSTART:20231105T020000
TZOFFSETFROM:-0400
TZOFFSETTO:-0500
RDATE:20241103T020000
END:STANDARD
BEGIN:DAYLIGHT
TZNAME:EDT
DTSTART:20240310T020000
TZOFFSETFROM:-0500
TZOFFSETTO:-0400
RDATE:20250309T020000
END:DAYLIGHT
END:VTIMEZONE
BEGIN:VEVENT
UID:68c3ba61-29f6-48cc-815f-315bed2e3404
DTSTAMP:20260422T092728Z
DESCRIPTION:Every night during Ramadan\, MyLLife will host a nightly readin
 g of the Qur’an in English. All are welcome!\nMarch 10 - April 8\nTimes: 9
 :00 pm EST\nLocation: Virtual (Zoom)
DTSTART;TZID=America/New_York:20240313T210000
DTEND;TZID=America/New_York:20240313T220000
LOCATION:https://us06web.zoom.us/j/86128652692?pwd=mBSXq0zql6f7aEqk3aKCTyxb
 YXvWau.1
SUMMARY:Ramadan: Nightly Qur’an Readings with MyLLife Inc
END:VEVENT
END:VCALENDAR
