BEGIN:VCALENDAR
VERSION:2.0
PRODID:-//myllife.org//NONSGML kigkonsult.se iCalcreator 2.30.10//
CALSCALE:GREGORIAN
METHOD:PUBLISH
UID:f159edde-0fd6-4df3-9bbd-9eb6a12ad5d2
X-WR-CALDESC:Every night during Ramadan\, MyLLife will host a nightly readi
 ng of the Qur’an in English. All are welcome!\nMarch 10 - April 8\nTimes: 
 9:00 pm EST\nLocation: Virtual (Zoom)
X-WR-RELCALID:7713bf7cd165dc4cf995002f7e9c6254
X-WR-TIMEZONE:America/New_York
BEGIN:VTIMEZONE
TZID:America/New_York
BEGIN:STANDARD
TZNAME:EST
DTSTART:20231105T020000
TZOFFSETFROM:-0400
TZOFFSETTO:-0500
RDATE:20241103T020000
END:STANDARD
BEGIN:DAYLIGHT
TZNAME:EDT
DTSTART:20240310T020000
TZOFFSETFROM:-0500
TZOFFSETTO:-0400
RDATE:20250309T020000
END:DAYLIGHT
END:VTIMEZONE
BEGIN:VEVENT
UID:09fc73c6-4b04-487f-8b96-011937187903
DTSTAMP:20260422T092546Z
DESCRIPTION:Every night during Ramadan\, MyLLife will host a nightly readin
 g of the Qur’an in English. All are welcome!\nMarch 10 - April 8\nTimes: 9
 :00 pm EST\nLocation: Virtual (Zoom)
DTSTART;TZID=America/New_York:20240327T210000
DTEND;TZID=America/New_York:20240327T220000
LOCATION:https://us06web.zoom.us/j/86128652692?pwd=mBSXq0zql6f7aEqk3aKCTyxb
 YXvWau.1
SUMMARY:Ramadan: Nightly Qur’an Readings with MyLLife Inc
END:VEVENT
END:VCALENDAR
