BEGIN:VCALENDAR
VERSION:2.0
PRODID:-//myllife.org//NONSGML kigkonsult.se iCalcreator 2.30.10//
CALSCALE:GREGORIAN
METHOD:PUBLISH
UID:2d100b78-0ee3-4c37-b945-d2f0468703d8
X-WR-CALDESC:Every night during Ramadan\, MyLLife will host a nightly readi
 ng of the Qur’an in English. All are welcome!\nMarch 10 - April 8\nTimes: 
 9:00 pm EST\nLocation: Virtual (Zoom)
X-WR-RELCALID:a7927003f6e25b953000c5ee7dec23a5
X-WR-TIMEZONE:America/New_York
BEGIN:VTIMEZONE
TZID:America/New_York
BEGIN:STANDARD
TZNAME:EST
DTSTART:20231105T020000
TZOFFSETFROM:-0400
TZOFFSETTO:-0500
RDATE:20241103T020000
END:STANDARD
BEGIN:DAYLIGHT
TZNAME:EDT
DTSTART:20240310T020000
TZOFFSETFROM:-0500
TZOFFSETTO:-0400
RDATE:20250309T020000
END:DAYLIGHT
END:VTIMEZONE
BEGIN:VEVENT
UID:a5c3ed50-8365-449e-a93f-8d6ad21014da
DTSTAMP:20260422T092750Z
DESCRIPTION:Every night during Ramadan\, MyLLife will host a nightly readin
 g of the Qur’an in English. All are welcome!\nMarch 10 - April 8\nTimes: 9
 :00 pm EST\nLocation: Virtual (Zoom)
DTSTART;TZID=America/New_York:20240330T210000
DTEND;TZID=America/New_York:20240330T220000
LOCATION:https://us06web.zoom.us/j/86128652692?pwd=mBSXq0zql6f7aEqk3aKCTyxb
 YXvWau.1
SUMMARY:Ramadan: Nightly Qur’an Readings with MyLLife Inc
END:VEVENT
END:VCALENDAR
