BEGIN:VCALENDAR
VERSION:2.0
PRODID:-//myllife.org//NONSGML kigkonsult.se iCalcreator 2.30.10//
CALSCALE:GREGORIAN
METHOD:PUBLISH
UID:ed37b210-6b50-4697-b777-229e4eeb635e
X-WR-CALDESC:
X-WR-RELCALID:9e2ac0026835619af62790dac5a2fb47
X-WR-TIMEZONE:America/New_York
BEGIN:VTIMEZONE
TZID:America/New_York
BEGIN:STANDARD
TZNAME:EST
DTSTART:20231105T020000
TZOFFSETFROM:-0400
TZOFFSETTO:-0500
RDATE:20241103T020000
RDATE:20251102T020000
END:STANDARD
BEGIN:DAYLIGHT
TZNAME:EDT
DTSTART:20240310T020000
TZOFFSETFROM:-0500
TZOFFSETTO:-0400
RDATE:20250309T020000
END:DAYLIGHT
END:VTIMEZONE
BEGIN:VEVENT
UID:beb15654-004d-49d1-a5e5-9239841bc239
DTSTAMP:20260422T035223Z
DESCRIPTION:
DTSTART;TZID=America/New_York:20240623T120000
DTEND;TZID=America/New_York:20240623T130000
LOCATION:https://us06web.zoom.us/j/85846994226
SUMMARY:MyLLife Scholars 2024 Cohort Kick-Off Meeting
END:VEVENT
END:VCALENDAR
