BEGIN:VCALENDAR
VERSION:2.0
PRODID:-//myllife.org//NONSGML kigkonsult.se iCalcreator 2.30.10//
CALSCALE:GREGORIAN
METHOD:PUBLISH
UID:6a0c3b9b-6e22-43b4-aa54-909ff6f38386
X-WR-CALDESC:
X-WR-RELCALID:713e6704ceae36e9c0807a6607cc0d24
X-WR-TIMEZONE:America/New_York
BEGIN:VTIMEZONE
TZID:America/New_York
BEGIN:STANDARD
TZNAME:EST
DTSTART:20231105T020000
TZOFFSETFROM:-0400
TZOFFSETTO:-0500
RDATE:20241103T020000
RDATE:20251102T020000
END:STANDARD
BEGIN:DAYLIGHT
TZNAME:EDT
DTSTART:20240310T020000
TZOFFSETFROM:-0500
TZOFFSETTO:-0400
RDATE:20250309T020000
END:DAYLIGHT
END:VTIMEZONE
BEGIN:VEVENT
UID:f12305dd-4d9b-4aac-b648-7edbace8d95d
DTSTAMP:20260422T022331Z
DESCRIPTION:
DTSTART;TZID=America/New_York:20240727T110000
DTEND;TZID=America/New_York:20240727T120000
LOCATION:https://us06web.zoom.us/j/85883485942
SUMMARY:Journey into the Qur'an (JIQ) - a Monthly Forum for Young Professio
 nals
END:VEVENT
END:VCALENDAR
