BEGIN:VCALENDAR
VERSION:2.0
PRODID:-//myllife.org//NONSGML kigkonsult.se iCalcreator 2.30.10//
CALSCALE:GREGORIAN
METHOD:PUBLISH
UID:c937cbff-bb42-4b6d-b97e-7f29e5097efc
X-WR-CALDESC:Tentative Retreat Itinerary:\n\nAUGUST 9 (Friday)\nAFTERNOON\n
 Check In (Skyland Resort Welcome Center) – 4:00PM\nMeet for Informal Dinne
 r: 6:00PM at Skyland Restaurant\nSunset viewing: 7:30PM Gather outside of 
 Restaurant\nEvening time: TBD (in collaboration with Park Services)\n\n\nA
 UGUST 10 (Saturday)\nMORNING (Meeting Place TBD)\nFormal Welcome: Rashed H
 asan/MyLLife programs and Activities (9-9:30AM)\nFirst Session (9:45-10:30
 ): At Peace with Yourself/A dialogue with Dr. Safdar Chaudhary\, and Q&A\n
 Second Session (10:45 -11:30): Faith Conversation\, and Q&A (TBD)\nLUNCH (
 12:30 – 2:00) – Picnic (Shelter TBD)\nAFTERNOON – FREE TIME for OUTDOOR Ac
 tivities\n· Hiking\, Horseback riding\, driving on Skyline Drive for sceni
 c view (wait for more details) – depends on how many people confirm to att
 end\nDINNER (6:30-8:30PM) – Place TBD\n\n\nAUGUST 11 (Sunday)\nMORNING Fir
 st Session: 9-10:30AM (Strategy Session)\nCheckout: 11AM\nOutdoor Activiti
 es (Hiking\, Horseback riding\, visit to Luray Cavern)
X-WR-RELCALID:fc37620805db592241442242dbb6d976
X-WR-TIMEZONE:America/New_York
BEGIN:VTIMEZONE
TZID:America/New_York
BEGIN:STANDARD
TZNAME:EST
DTSTART:20231105T020000
TZOFFSETFROM:-0400
TZOFFSETTO:-0500
RDATE:20241103T020000
RDATE:20251102T020000
END:STANDARD
BEGIN:DAYLIGHT
TZNAME:EDT
DTSTART:20240310T020000
TZOFFSETFROM:-0500
TZOFFSETTO:-0400
RDATE:20250309T020000
END:DAYLIGHT
END:VTIMEZONE
BEGIN:VEVENT
UID:a36e25d1-90d8-4092-9201-6f90e054ad29
DTSTAMP:20260422T001835Z
DESCRIPTION:Tentative Retreat Itinerary:\n\nAUGUST 9 (Friday)\nAFTERNOON\nC
 heck In (Skyland Resort Welcome Center) – 4:00PM\nMeet for Informal Dinner
 : 6:00PM at Skyland Restaurant\nSunset viewing: 7:30PM Gather outside of R
 estaurant\nEvening time: TBD (in collaboration with Park Services)\n\n\nAU
 GUST 10 (Saturday)\nMORNING (Meeting Place TBD)\nFormal Welcome: Rashed Ha
 san/MyLLife programs and Activities (9-9:30AM)\nFirst Session (9:45-10:30)
 : At Peace with Yourself/A dialogue with Dr. Safdar Chaudhary\, and Q&A\nS
 econd Session (10:45 -11:30): Faith Conversation\, and Q&A (TBD)\nLUNCH (1
 2:30 – 2:00) – Picnic (Shelter TBD)\nAFTERNOON – FREE TIME for OUTDOOR Act
 ivities\n· Hiking\, Horseback riding\, driving on Skyline Drive for scenic
  view (wait for more details) – depends on how many people confirm to atte
 nd\nDINNER (6:30-8:30PM) – Place TBD\n\n\nAUGUST 11 (Sunday)\nMORNING Firs
 t Session: 9-10:30AM (Strategy Session)\nCheckout: 11AM\nOutdoor Activitie
 s (Hiking\, Horseback riding\, visit to Luray Cavern)
DTSTART;TZID=America/New_York:20240809T060000
DTEND;TZID=America/New_York:20240811T060001
LOCATION:Skyland Resort | Shenandoah National Park\, Mile 41 on Skyline Dri
 ve\, Shenandoah National Park\, VA 22835 US
SUMMARY:MyLLife Annual Retreat
END:VEVENT
END:VCALENDAR
