BEGIN:VCALENDAR
VERSION:2.0
PRODID:-//myllife.org//NONSGML kigkonsult.se iCalcreator 2.30.10//
CALSCALE:GREGORIAN
METHOD:PUBLISH
UID:ce5bbc00-5390-4e7c-8f8c-46b82132b1af
X-WR-CALDESC:
X-WR-RELCALID:d0fd9685becb2cce4f305bee1f9909c6
X-WR-TIMEZONE:America/New_York
BEGIN:VTIMEZONE
TZID:America/New_York
BEGIN:STANDARD
TZNAME:EST
DTSTART:20231105T020000
TZOFFSETFROM:-0400
TZOFFSETTO:-0500
RDATE:20241103T020000
RDATE:20251102T020000
END:STANDARD
BEGIN:DAYLIGHT
TZNAME:EDT
DTSTART:20240310T020000
TZOFFSETFROM:-0500
TZOFFSETTO:-0400
RDATE:20250309T020000
END:DAYLIGHT
END:VTIMEZONE
BEGIN:VEVENT
UID:8ac57d93-004e-40f3-b5d8-c7437dd88f67
DTSTAMP:20260422T002251Z
DESCRIPTION:
DTSTART;TZID=America/New_York:20240814T173000
DTEND;TZID=America/New_York:20240814T183000
LOCATION:https://us06web.zoom.us/j/83083732304
SUMMARY:MyLLife Scholars 2024 End-of-Summer Gathering
END:VEVENT
END:VCALENDAR
