BEGIN:VCALENDAR
VERSION:2.0
PRODID:-//myllife.org//NONSGML kigkonsult.se iCalcreator 2.30.10//
CALSCALE:GREGORIAN
METHOD:PUBLISH
UID:ea135587-0fc9-4c2c-a056-950347eb7b16
X-WR-CALDESC:Rosh Hashanah is the Jewish New Year. Happy Rosh Hashanah to a
 ll!
X-WR-RELCALID:174d68ba6e6955123e586a21070f0529
X-WR-TIMEZONE:America/New_York
BEGIN:VTIMEZONE
TZID:America/New_York
BEGIN:STANDARD
TZNAME:EST
DTSTART:20231105T020000
TZOFFSETFROM:-0400
TZOFFSETTO:-0500
RDATE:20241103T020000
RDATE:20251102T020000
END:STANDARD
BEGIN:DAYLIGHT
TZNAME:EDT
DTSTART:20240310T020000
TZOFFSETFROM:-0500
TZOFFSETTO:-0400
RDATE:20250309T020000
RDATE:20260308T020000
END:DAYLIGHT
END:VTIMEZONE
BEGIN:VEVENT
UID:3559cfc5-9801-4b96-a26d-a784160ffffa
DTSTAMP:20260421T224029Z
DESCRIPTION:Rosh Hashanah is the Jewish New Year. Happy Rosh Hashanah to al
 l!
DTSTART;TZID=America/New_York:20240907T000000
DTEND;TZID=America/New_York:20240907T235900
LOCATION:
SUMMARY:Rosh Hashanah
END:VEVENT
END:VCALENDAR
