BEGIN:VCALENDAR
VERSION:2.0
PRODID:-//myllife.org//NONSGML kigkonsult.se iCalcreator 2.30.10//
CALSCALE:GREGORIAN
METHOD:PUBLISH
UID:cf03e1ec-0d3d-49e8-8a6c-bce47c4d93c2
X-WR-CALDESC:
X-WR-RELCALID:6febf25b95fb770c9b231d5cd321720d
X-WR-TIMEZONE:America/New_York
BEGIN:VTIMEZONE
TZID:America/New_York
BEGIN:STANDARD
TZNAME:EST
DTSTART:20231105T020000
TZOFFSETFROM:-0400
TZOFFSETTO:-0500
RDATE:20241103T020000
RDATE:20251102T020000
END:STANDARD
BEGIN:DAYLIGHT
TZNAME:EDT
DTSTART:20240310T020000
TZOFFSETFROM:-0500
TZOFFSETTO:-0400
RDATE:20250309T020000
RDATE:20260308T020000
END:DAYLIGHT
END:VTIMEZONE
BEGIN:VEVENT
UID:c331a9fc-b573-470f-b4c9-d915ded08ee7
DTSTAMP:20260421T224215Z
DESCRIPTION:
DTSTART;TZID=America/New_York:20240907T110000
DTEND;TZID=America/New_York:20240907T120000
LOCATION:https://us06web.zoom.us/j/84435431580
SUMMARY:Session #2: Journey into the Qur'an (JIQ) - a Monthly Forum for You
 ng Professionals
END:VEVENT
END:VCALENDAR
