BEGIN:VCALENDAR
VERSION:2.0
PRODID:-//myllife.org//NONSGML kigkonsult.se iCalcreator 2.30.10//
CALSCALE:GREGORIAN
METHOD:PUBLISH
UID:f1a344a4-74d8-42fc-b8d0-2d64c45dbc4b
X-WR-CALDESC:Each ticket includes a donation to MyLLife\, dinner for regist
 rant and 1 optional guest\, and a copy of Volume 4 of 'Removing the Middle
 man'.
X-WR-RELCALID:3f59f5d3d556cfdbbaec466e29ce5398
X-WR-TIMEZONE:America/New_York
BEGIN:VTIMEZONE
TZID:America/New_York
BEGIN:STANDARD
TZNAME:EST
DTSTART:20231105T020000
TZOFFSETFROM:-0400
TZOFFSETTO:-0500
RDATE:20241103T020000
RDATE:20251102T020000
END:STANDARD
BEGIN:DAYLIGHT
TZNAME:EDT
DTSTART:20240310T020000
TZOFFSETFROM:-0500
TZOFFSETTO:-0400
RDATE:20250309T020000
RDATE:20260308T020000
END:DAYLIGHT
END:VTIMEZONE
BEGIN:VEVENT
UID:fa247973-aa00-40f3-9f91-3e68dac4cfa2
DTSTAMP:20260421T204824Z
DESCRIPTION:Each ticket includes a donation to MyLLife\, dinner for registr
 ant and 1 optional guest\, and a copy of Volume 4 of 'Removing the Middlem
 an'.
DTSTART;TZID=America/New_York:20241005T180000
DTEND;TZID=America/New_York:20241005T210000
LOCATION:Address will be provided to registered guests
SUMMARY:Informational Session with MyLLife Founder Rashed Hasan - Held in B
 oston
END:VEVENT
END:VCALENDAR
