BEGIN:VCALENDAR
VERSION:2.0
PRODID:-//myllife.org//NONSGML kigkonsult.se iCalcreator 2.30.10//
CALSCALE:GREGORIAN
METHOD:PUBLISH
UID:096c3fcd-e3d0-43a1-9c04-db0ca800060d
X-WR-CALDESC:
X-WR-RELCALID:1d9d112641848996f16781d4d5d166b2
X-WR-TIMEZONE:America/New_York
BEGIN:VTIMEZONE
TZID:America/New_York
BEGIN:STANDARD
TZNAME:EST
DTSTART:20231105T020000
TZOFFSETFROM:-0400
TZOFFSETTO:-0500
RDATE:20241103T020000
RDATE:20251102T020000
END:STANDARD
BEGIN:DAYLIGHT
TZNAME:EDT
DTSTART:20240310T020000
TZOFFSETFROM:-0500
TZOFFSETTO:-0400
RDATE:20250309T020000
RDATE:20260308T020000
END:DAYLIGHT
END:VTIMEZONE
BEGIN:VEVENT
UID:34b1efed-7436-45c5-8233-3aece50eec15
DTSTAMP:20260421T204739Z
DESCRIPTION:
DTSTART;TZID=America/New_York:20241005T110000
DTEND;TZID=America/New_York:20241005T120000
LOCATION:https://us06web.zoom.us/j/89478340437
SUMMARY:Session #3: Journey into the Qur'an (JIQ) - a Monthly Forum for You
 ng Professionals
END:VEVENT
END:VCALENDAR
