BEGIN:VCALENDAR
VERSION:2.0
PRODID:-//myllife.org//NONSGML kigkonsult.se iCalcreator 2.30.10//
CALSCALE:GREGORIAN
METHOD:PUBLISH
UID:bcd4a48e-8294-4f06-b2ef-e880fc7fea2e
X-WR-CALDESC:Halloween is a holiday observed and celebrated all around the 
 world on October 31st. It takes place before the Christian holy day of All
  Hallows' Day and is an extremely iconic and popular holiday especially in
  America. Happy Halloween!
X-WR-RELCALID:b6e3a70a31b8c430ded2cb539e7f4b4e
X-WR-TIMEZONE:America/New_York
BEGIN:VTIMEZONE
TZID:America/New_York
BEGIN:STANDARD
TZNAME:EST
DTSTART:20231105T020000
TZOFFSETFROM:-0400
TZOFFSETTO:-0500
RDATE:20241103T020000
RDATE:20251102T020000
END:STANDARD
BEGIN:DAYLIGHT
TZNAME:EDT
DTSTART:20240310T020000
TZOFFSETFROM:-0500
TZOFFSETTO:-0400
RDATE:20250309T020000
RDATE:20260308T020000
END:DAYLIGHT
END:VTIMEZONE
BEGIN:VEVENT
UID:52650d77-1307-443b-9668-f08c767a7811
DTSTAMP:20260421T210234Z
DESCRIPTION:Halloween is a holiday observed and celebrated all around the w
 orld on October 31st. It takes place before the Christian holy day of All 
 Hallows' Day and is an extremely iconic and popular holiday especially in 
 America. Happy Halloween!
DTSTART;TZID=America/New_York:20241031T000000
DTEND;TZID=America/New_York:20241031T235900
LOCATION:
SUMMARY:Halloween
END:VEVENT
END:VCALENDAR
